BEGIN:VCALENDAR
VERSION:2.0
PRODID:-//Sabre//Sabre VObject 4.5.8//EN
CALSCALE:GREGORIAN
BEGIN:VTIMEZONE
TZID:Europe/Zurich
X-LIC-LOCATION:Europe/Zurich
TZURL:http://tzurl.org/zoneinfo/Europe/Zurich
BEGIN:DAYLIGHT
TZOFFSETFROM:+0100
TZOFFSETTO:+0200
TZNAME:CEST
DTSTART:19810329T020000
RRULE:FREQ=YEARLY;BYMONTH=3;BYDAY=-1SU
END:DAYLIGHT
BEGIN:STANDARD
TZOFFSETFROM:+0200
TZOFFSETTO:+0100
TZNAME:CET
DTSTART:19961027T030000
RRULE:FREQ=YEARLY;BYMONTH=10;BYDAY=-1SU
END:STANDARD
END:VTIMEZONE
BEGIN:VEVENT
UID:news1028@physik.unibas.ch
DTSTAMP;TZID=Europe/Zurich:20260423T102648
DTSTART;TZID=Europe/Zurich:20260424T130000
SUMMARY:Young Physicists Forum 2026
DESCRIPTION:Das Programm umfasst Vorträge und Laborbesuche\, die von der U
 niversität Basel organisiert werden\, darunter Beiträge des Biozentrums 
 und des Departements für Physik sowie des Swiss Nanoscience Institute. Ge
 meinsam unterstreichen diese Aktivitäten Basels Rolle als dynamisches Zen
 trum an der Schnittstelle von Physik und Life Sciences.Neben dem wissensch
 aftlichen Programm haben die Teilnehmenden Gelegenheit\, Kontakte zu Gleic
 hgesinnten von Institutionen wie der ETH Zürich und der EPFL zu knüpfen\
 , was die Zusammenarbeit innerhalb der Schweizer Physikgemeinschaft förde
 rt.Weitere Informationen finden Sie unter www.young-physicists.ch [http://
 www.young-physicists.ch/].
X-ALT-DESC:<p>Das Programm umfasst Vorträge und Laborbesuche\, die von der
  Universität Basel organisiert werden\, darunter Beiträge des Biozentrum
 s und des Departements für Physik sowie des Swiss Nanoscience Institute. 
 Gemeinsam unterstreichen diese Aktivitäten Basels Rolle als dynamisches Z
 entrum an der Schnittstelle von Physik und Life Sciences.<br /><br />Neben
  dem wissenschaftlichen Programm haben die Teilnehmenden Gelegenheit\, Kon
 takte zu Gleichgesinnten von Institutionen wie der ETH Zürich und der EPF
 L zu knüpfen\, was die Zusammenarbeit innerhalb der Schweizer Physikgemei
 nschaft fördert.<br /><br />Weitere Informationen finden Sie unter <a hre
 f="http://www.young-physicists.ch/" target="_blank">www.young-physicists.c
 h</a>.</p>
END:VEVENT
END:VCALENDAR
